BEGIN:VCALENDAR
VERSION:2.0
PRODID:-//LaGuardia Redevelopment - ECPv5.16.4//NONSGML v1.0//EN
CALSCALE:GREGORIAN
METHOD:PUBLISH
X-WR-CALNAME:LaGuardia Redevelopment
X-ORIGINAL-URL:https://qa.anewlga.com
X-WR-CALDESC:Events for LaGuardia Redevelopment
BEGIN:VTIMEZONE
TZID:UTC
BEGIN:STANDARD
TZOFFSETFROM:+0000
TZOFFSETTO:+0000
TZNAME:UTC
DTSTART:20190101T000000
END:STANDARD
END:VTIMEZONE
BEGIN:VEVENT
DTSTART;TZID=UTC:20191213T100000
DTEND;TZID=UTC:20191213T103000
DTSTAMP:20260424T080706
CREATED:20191216T022027Z
LAST-MODIFIED:20191216T022027Z
UID:1587-1576231200-1576233000@qa.anewlga.com
SUMMARY:Community School Holiday Performances
DESCRIPTION:Terminal B Food Court
URL:https://qa.anewlga.com/event/community-school-holiday-performances-2/
LOCATION:Terminal B
END:VEVENT
BEGIN:VEVENT
DTSTART;TZID=UTC:20191213T110000
DTEND;TZID=UTC:20191213T130000
DTSTAMP:20260424T080707
CREATED:20191216T022913Z
LAST-MODIFIED:20191216T022913Z
UID:1601-1576234800-1576242000@qa.anewlga.com
SUMMARY:Mobile Office
DESCRIPTION:Elmcor Senior Center
URL:https://qa.anewlga.com/event/mobile-office-12/
LOCATION:Elmcor Senior Center\, 98-19 Astoria Blvd\, Queens\, NY\, United States
END:VEVENT
BEGIN:VEVENT
DTSTART;TZID=UTC:20191213T123000
DTEND;TZID=UTC:20191213T143000
DTSTAMP:20260424T080707
CREATED:20191216T020720Z
LAST-MODIFIED:20191216T020720Z
UID:1567-1576240200-1576247400@qa.anewlga.com
SUMMARY:Therapy Dog Program
DESCRIPTION:Terminal B
URL:https://qa.anewlga.com/event/therapy-dog-program-11/
LOCATION:Terminal B
END:VEVENT
BEGIN:VEVENT
DTSTART;TZID=UTC:20191213T130000
DTEND;TZID=UTC:20191213T160000
DTSTAMP:20260424T080707
CREATED:20191216T021157Z
LAST-MODIFIED:20191216T021157Z
UID:1575-1576242000-1576252800@qa.anewlga.com
SUMMARY:Live Jazz in Terminal B Retail District
DESCRIPTION:Terminal B Retail District
URL:https://qa.anewlga.com/event/live-jazz-in-terminal-b-retail-district-2/
LOCATION:Terminal B
END:VEVENT
BEGIN:VEVENT
DTSTART;TZID=UTC:20191213T130000
DTEND;TZID=UTC:20191213T150000
DTSTAMP:20260424T080707
CREATED:20191216T022532Z
LAST-MODIFIED:20191216T022532Z
UID:1599-1576242000-1576249200@qa.anewlga.com
SUMMARY:Celebrate Chanukah
DESCRIPTION:Terminal B Food Court
URL:https://qa.anewlga.com/event/celebrate-chanukah/
LOCATION:Terminal B
END:VEVENT
END:VCALENDAR