BEGIN:VCALENDAR
VERSION:2.0
PRODID:-//LaGuardia Redevelopment - ECPv5.16.4//NONSGML v1.0//EN
CALSCALE:GREGORIAN
METHOD:PUBLISH
X-WR-CALNAME:LaGuardia Redevelopment
X-ORIGINAL-URL:https://qa.anewlga.com
X-WR-CALDESC:Events for LaGuardia Redevelopment
BEGIN:VTIMEZONE
TZID:UTC
BEGIN:STANDARD
TZOFFSETFROM:+0000
TZOFFSETTO:+0000
TZNAME:UTC
DTSTART:20190101T000000
END:STANDARD
END:VTIMEZONE
BEGIN:VEVENT
DTSTART;TZID=UTC:20190601T100000
DTEND;TZID=UTC:20190601T190000
DTSTAMP:20260424T190542
CREATED:20190530T014458Z
LAST-MODIFIED:20190530T021309Z
UID:1261-1559383200-1559415600@qa.anewlga.com
SUMMARY:Family Day
DESCRIPTION:Family Day
URL:https://qa.anewlga.com/event/1261/
END:VEVENT
END:VCALENDAR