BEGIN:VCALENDAR
VERSION:2.0
PRODID:-//LaGuardia Redevelopment - ECPv5.16.4//NONSGML v1.0//EN
CALSCALE:GREGORIAN
METHOD:PUBLISH
X-WR-CALNAME:LaGuardia Redevelopment
X-ORIGINAL-URL:https://qa.anewlga.com
X-WR-CALDESC:Events for LaGuardia Redevelopment
BEGIN:VTIMEZONE
TZID:UTC
BEGIN:STANDARD
TZOFFSETFROM:+0000
TZOFFSETTO:+0000
TZNAME:UTC
DTSTART:20190101T000000
END:STANDARD
END:VTIMEZONE
BEGIN:VEVENT
DTSTART;TZID=UTC:20190607T080000
DTEND;TZID=UTC:20190607T130000
DTSTAMP:20260424T202807
CREATED:20190603T224939Z
LAST-MODIFIED:20190603T224954Z
UID:1284-1559894400-1559912400@qa.anewlga.com
SUMMARY:2019 Regional MWBE Opportunities Expo
DESCRIPTION:2019 Regional MWBE Opportunities Expo
URL:https://qa.anewlga.com/event/2019-regional-mwbe-opportunities-expo/
LOCATION:New York City College of Technology\, 285 Jay Street\, Brooklyn\, NY\, 11201\, United States
END:VEVENT
END:VCALENDAR