BEGIN:VCALENDAR
VERSION:2.0
PRODID:-//LaGuardia Redevelopment - ECPv5.16.4//NONSGML v1.0//EN
CALSCALE:GREGORIAN
METHOD:PUBLISH
X-WR-CALNAME:LaGuardia Redevelopment
X-ORIGINAL-URL:https://qa.anewlga.com
X-WR-CALDESC:Events for LaGuardia Redevelopment
BEGIN:VTIMEZONE
TZID:UTC
BEGIN:STANDARD
TZOFFSETFROM:+0000
TZOFFSETTO:+0000
TZNAME:UTC
DTSTART:20190101T000000
END:STANDARD
END:VTIMEZONE
BEGIN:VEVENT
DTSTART;TZID=UTC:20190726T090000
DTEND;TZID=UTC:20190726T160000
DTSTAMP:20260424T191305
CREATED:20190712T045338Z
LAST-MODIFIED:20190712T045338Z
UID:1340-1564131600-1564156800@qa.anewlga.com
SUMMARY:ACDBE Event at Borough Hall
DESCRIPTION:ACDBE Event at Borough Hall
URL:https://qa.anewlga.com/event/acdbe-event-at-borough-hall/
LOCATION:120-55 Queens Blvd\, Kew Gardens\, NY\, 11424\, 120-55 Queens Blvd\, Kew Gardens\, NY\, 11424\, United States
END:VEVENT
END:VCALENDAR