BEGIN:VCALENDAR
VERSION:2.0
PRODID:-//LaGuardia Redevelopment - ECPv5.16.4//NONSGML v1.0//EN
CALSCALE:GREGORIAN
METHOD:PUBLISH
X-WR-CALNAME:LaGuardia Redevelopment
X-ORIGINAL-URL:https://qa.anewlga.com
X-WR-CALDESC:Events for LaGuardia Redevelopment
BEGIN:VTIMEZONE
TZID:UTC
BEGIN:STANDARD
TZOFFSETFROM:+0000
TZOFFSETTO:+0000
TZNAME:UTC
DTSTART:20200101T000000
END:STANDARD
END:VTIMEZONE
BEGIN:VEVENT
DTSTART;TZID=UTC:20200303T140000
DTEND;TZID=UTC:20200303T180000
DTSTAMP:20260424T032213
CREATED:20200221T025116Z
LAST-MODIFIED:20200229T050359Z
UID:1857-1583244000-1583258400@qa.anewlga.com
SUMMARY:Job Fair
DESCRIPTION:LGA Community Outreach Office
URL:https://qa.anewlga.com/event/aviation-job-fair-2/
LOCATION:98-12 Astoria Blvd\, 98-12 Astoria Blvd\, East Elmhurst\, NY\, 11369\, United States
END:VEVENT
END:VCALENDAR