BEGIN:VCALENDAR
VERSION:2.0
PRODID:-//LaGuardia Redevelopment - ECPv5.16.4//NONSGML v1.0//EN
CALSCALE:GREGORIAN
METHOD:PUBLISH
X-WR-CALNAME:LaGuardia Redevelopment
X-ORIGINAL-URL:https://qa.anewlga.com
X-WR-CALDESC:Events for LaGuardia Redevelopment
BEGIN:VTIMEZONE
TZID:UTC
BEGIN:STANDARD
TZOFFSETFROM:+0000
TZOFFSETTO:+0000
TZNAME:UTC
DTSTART:20200101T000000
END:STANDARD
END:VTIMEZONE
BEGIN:VEVENT
DTSTART;TZID=UTC:20200306T100000
DTEND;TZID=UTC:20200306T140000
DTSTAMP:20260424T032310
CREATED:20200221T025312Z
LAST-MODIFIED:20200229T032809Z
UID:1859-1583488800-1583503200@qa.anewlga.com
SUMMARY:Job Fair
DESCRIPTION:Langston Hughes Library
URL:https://qa.anewlga.com/event/aviation-job-fair-3/
LOCATION:Langston Hughes Library\, 100-01 Northern Blvd\, Flushing\, NY\, 11368\, United States
END:VEVENT
END:VCALENDAR