BEGIN:VCALENDAR
VERSION:2.0
PRODID:-//LaGuardia Redevelopment - ECPv5.16.4//NONSGML v1.0//EN
CALSCALE:GREGORIAN
METHOD:PUBLISH
X-WR-CALNAME:LaGuardia Redevelopment
X-ORIGINAL-URL:https://qa.anewlga.com
X-WR-CALDESC:Events for LaGuardia Redevelopment
BEGIN:VTIMEZONE
TZID:UTC
BEGIN:STANDARD
TZOFFSETFROM:+0000
TZOFFSETTO:+0000
TZNAME:UTC
DTSTART:20200101T000000
END:STANDARD
END:VTIMEZONE
BEGIN:VEVENT
DTSTART;TZID=UTC:20200317T100000
DTEND;TZID=UTC:20200317T140000
DTSTAMP:20260424T031035
CREATED:20200221T025812Z
LAST-MODIFIED:20200318T023142Z
UID:1864-1584439200-1584453600@qa.anewlga.com
SUMMARY:Job Fair (CANCELLED)
DESCRIPTION:Hour Working Woman
URL:https://qa.anewlga.com/event/aviation-job-fair-5/
LOCATION:Hour Working Woman\, 36-11 12th St\, Long Island CIty\, NY\, 11106\, United States
END:VEVENT
END:VCALENDAR