BEGIN:VCALENDAR
VERSION:2.0
PRODID:-//LaGuardia Redevelopment - ECPv5.16.4//NONSGML v1.0//EN
CALSCALE:GREGORIAN
METHOD:PUBLISH
X-WR-CALNAME:LaGuardia Redevelopment
X-ORIGINAL-URL:https://qa.anewlga.com
X-WR-CALDESC:Events for LaGuardia Redevelopment
BEGIN:VTIMEZONE
TZID:UTC
BEGIN:STANDARD
TZOFFSETFROM:+0000
TZOFFSETTO:+0000
TZNAME:UTC
DTSTART:20200101T000000
END:STANDARD
END:VTIMEZONE
BEGIN:VEVENT
DTSTART;TZID=UTC:20200220T100000
DTEND;TZID=UTC:20200220T140000
DTSTAMP:20260424T050231
CREATED:20200221T032907Z
LAST-MODIFIED:20200221T032907Z
UID:1852-1582192800-1582207200@qa.anewlga.com
SUMMARY:Aviation Job Fair
DESCRIPTION:Vaughn College
URL:https://qa.anewlga.com/event/aviation-job-fair-7/
LOCATION:Vaughn College\, 86-01 23rd Ave\, East Elmhurst\, NY\, 11369\, United States
END:VEVENT
END:VCALENDAR