BEGIN:VCALENDAR
VERSION:2.0
PRODID:-//LaGuardia Redevelopment - ECPv5.16.4//NONSGML v1.0//EN
CALSCALE:GREGORIAN
METHOD:PUBLISH
X-WR-CALNAME:LaGuardia Redevelopment
X-ORIGINAL-URL:https://qa.anewlga.com
X-WR-CALDESC:Events for LaGuardia Redevelopment
BEGIN:VTIMEZONE
TZID:UTC
BEGIN:STANDARD
TZOFFSETFROM:+0000
TZOFFSETTO:+0000
TZNAME:UTC
DTSTART:20200101T000000
END:STANDARD
END:VTIMEZONE
BEGIN:VEVENT
DTSTART;TZID=UTC:20200227T110000
DTEND;TZID=UTC:20200227T150000
DTSTAMP:20260424T032732
CREATED:20200221T024848Z
LAST-MODIFIED:20200227T013033Z
UID:1854-1582801200-1582815600@qa.anewlga.com
SUMMARY:Aviation Job Fair
DESCRIPTION:Terminal B
URL:https://qa.anewlga.com/event/aviation-job-fair/
LOCATION:Terminal B
END:VEVENT
END:VCALENDAR