BEGIN:VCALENDAR
VERSION:2.0
PRODID:-//LaGuardia Redevelopment - ECPv5.16.4//NONSGML v1.0//EN
CALSCALE:GREGORIAN
METHOD:PUBLISH
X-WR-CALNAME:LaGuardia Redevelopment
X-ORIGINAL-URL:https://qa.anewlga.com
X-WR-CALDESC:Events for LaGuardia Redevelopment
BEGIN:VTIMEZONE
TZID:UTC
BEGIN:STANDARD
TZOFFSETFROM:+0000
TZOFFSETTO:+0000
TZNAME:UTC
DTSTART:20180101T000000
END:STANDARD
END:VTIMEZONE
BEGIN:VEVENT
DTSTART;TZID=UTC:20181019T140000
DTEND;TZID=UTC:20181019T160000
DTSTAMP:20260425T091327
CREATED:20181017T024304Z
LAST-MODIFIED:20181017T024304Z
UID:816-1539957600-1539964800@qa.anewlga.com
SUMMARY:Bidawee at Terminal B
DESCRIPTION:
URL:https://qa.anewlga.com/event/bidawee-at-terminal-b/
LOCATION:Terminal B
END:VEVENT
END:VCALENDAR