BEGIN:VCALENDAR
VERSION:2.0
PRODID:-//LaGuardia Redevelopment - ECPv5.16.4//NONSGML v1.0//EN
CALSCALE:GREGORIAN
METHOD:PUBLISH
X-WR-CALNAME:LaGuardia Redevelopment
X-ORIGINAL-URL:https://qa.anewlga.com
X-WR-CALDESC:Events for LaGuardia Redevelopment
BEGIN:VTIMEZONE
TZID:America/New_York
BEGIN:DAYLIGHT
TZOFFSETFROM:-0500
TZOFFSETTO:-0400
TZNAME:EDT
DTSTART:20200308T070000
END:DAYLIGHT
BEGIN:STANDARD
TZOFFSETFROM:-0400
TZOFFSETTO:-0500
TZNAME:EST
DTSTART:20201101T060000
END:STANDARD
END:VTIMEZONE
BEGIN:VEVENT
DTSTART;TZID=America/New_York:20201105T100000
DTEND;TZID=America/New_York:20201105T111500
DTSTAMP:20260423T144506
CREATED:20201104T234329Z
LAST-MODIFIED:20210607T130951Z
UID:3061-1604570400-1604574900@qa.anewlga.com
SUMMARY:CAO On-Line Orientation
DESCRIPTION:
URL:https://qa.anewlga.com/event/cao-on-line-orientation-3/
LOCATION:Webinar
END:VEVENT
END:VCALENDAR