BEGIN:VCALENDAR
VERSION:2.0
PRODID:-//LaGuardia Redevelopment - ECPv5.16.4//NONSGML v1.0//EN
CALSCALE:GREGORIAN
METHOD:PUBLISH
X-WR-CALNAME:LaGuardia Redevelopment
X-ORIGINAL-URL:https://qa.anewlga.com
X-WR-CALDESC:Events for LaGuardia Redevelopment
BEGIN:VTIMEZONE
TZID:America/New_York
BEGIN:DAYLIGHT
TZOFFSETFROM:-0500
TZOFFSETTO:-0400
TZNAME:EDT
DTSTART:20210314T070000
END:DAYLIGHT
BEGIN:STANDARD
TZOFFSETFROM:-0400
TZOFFSETTO:-0500
TZNAME:EST
DTSTART:20211107T060000
END:STANDARD
END:VTIMEZONE
BEGIN:VEVENT
DTSTART;TZID=America/New_York:20210513T100000
DTEND;TZID=America/New_York:20210513T111500
DTSTAMP:20260423T034918
CREATED:20210512T165601Z
LAST-MODIFIED:20210512T165712Z
UID:3528-1620900000-1620904500@qa.anewlga.com
SUMMARY:CAO On-line Orientation
DESCRIPTION:Please Click Here to Register
URL:https://qa.anewlga.com/event/cao-on-line-orientation-49/
LOCATION:Webinar
END:VEVENT
END:VCALENDAR