BEGIN:VCALENDAR
VERSION:2.0
PRODID:-//LaGuardia Redevelopment - ECPv5.16.4//NONSGML v1.0//EN
CALSCALE:GREGORIAN
METHOD:PUBLISH
X-WR-CALNAME:LaGuardia Redevelopment
X-ORIGINAL-URL:https://qa.anewlga.com
X-WR-CALDESC:Events for LaGuardia Redevelopment
BEGIN:VTIMEZONE
TZID:America/New_York
BEGIN:DAYLIGHT
TZOFFSETFROM:-0500
TZOFFSETTO:-0400
TZNAME:EDT
DTSTART:20200308T070000
END:DAYLIGHT
BEGIN:STANDARD
TZOFFSETFROM:-0400
TZOFFSETTO:-0500
TZNAME:EST
DTSTART:20201101T060000
END:STANDARD
END:VTIMEZONE
BEGIN:VEVENT
DTSTART;TZID=America/New_York:20201001T100000
DTEND;TZID=America/New_York:20201001T231500
DTSTAMP:20260423T163504
CREATED:20201001T011341Z
LAST-MODIFIED:20201001T011341Z
UID:2797-1601546400-1601594100@qa.anewlga.com
SUMMARY:CAO Online Orientation
DESCRIPTION:Click Here to RSVP
URL:https://qa.anewlga.com/event/cao-online-orientation-16/
END:VEVENT
END:VCALENDAR