BEGIN:VCALENDAR
VERSION:2.0
PRODID:-//LaGuardia Redevelopment - ECPv5.16.4//NONSGML v1.0//EN
CALSCALE:GREGORIAN
METHOD:PUBLISH
X-WR-CALNAME:LaGuardia Redevelopment
X-ORIGINAL-URL:https://qa.anewlga.com
X-WR-CALDESC:Events for LaGuardia Redevelopment
BEGIN:VTIMEZONE
TZID:UTC
BEGIN:STANDARD
TZOFFSETFROM:+0000
TZOFFSETTO:+0000
TZNAME:UTC
DTSTART:20190101T000000
END:STANDARD
END:VTIMEZONE
BEGIN:VEVENT
DTSTART;TZID=UTC:20190516T193000
DTEND;TZID=UTC:20190516T193000
DTSTAMP:20260424T205417
CREATED:20190506T225447Z
LAST-MODIFIED:20190506T225447Z
UID:1189-1558035000-1558035000@qa.anewlga.com
SUMMARY:Community Board 3
DESCRIPTION:LGA Redevelopment Update
URL:https://qa.anewlga.com/event/community-board-3/
LOCATION:Langston Hughes Community Library and Cultural Center\, 100-01 Northern Blvd.\, Corona\, NY\, 11368\, United States
END:VEVENT
END:VCALENDAR