BEGIN:VCALENDAR
VERSION:2.0
PRODID:-//LaGuardia Redevelopment - ECPv5.16.4//NONSGML v1.0//EN
CALSCALE:GREGORIAN
METHOD:PUBLISH
X-WR-CALNAME:LaGuardia Redevelopment
X-ORIGINAL-URL:https://qa.anewlga.com
X-WR-CALDESC:Events for LaGuardia Redevelopment
BEGIN:VTIMEZONE
TZID:UTC
BEGIN:STANDARD
TZOFFSETFROM:+0000
TZOFFSETTO:+0000
TZNAME:UTC
DTSTART:20190101T000000
END:STANDARD
END:VTIMEZONE
BEGIN:VEVENT
DTSTART;TZID=UTC:20190714T130000
DTEND;TZID=UTC:20190714T160000
DTSTAMP:20260424T172800
CREATED:20190712T015340Z
LAST-MODIFIED:20190712T015340Z
UID:1329-1563109200-1563120000@qa.anewlga.com
SUMMARY:Creative Craft with Terminal B Fun Crew
DESCRIPTION:Creative Craft with Terminal B Fun Crew
URL:https://qa.anewlga.com/event/creative-craft-with-terminal-b-fun-crew/
LOCATION:Terminal B
END:VEVENT
END:VCALENDAR