BEGIN:VCALENDAR
VERSION:2.0
PRODID:-//LaGuardia Redevelopment - ECPv5.16.4//NONSGML v1.0//EN
CALSCALE:GREGORIAN
METHOD:PUBLISH
X-WR-CALNAME:LaGuardia Redevelopment
X-ORIGINAL-URL:https://qa.anewlga.com
X-WR-CALDESC:Events for LaGuardia Redevelopment
BEGIN:VTIMEZONE
TZID:UTC
BEGIN:STANDARD
TZOFFSETFROM:+0000
TZOFFSETTO:+0000
TZNAME:UTC
DTSTART:20190101T000000
END:STANDARD
END:VTIMEZONE
BEGIN:VEVENT
DTSTART;TZID=UTC:20191127T130000
DTEND;TZID=UTC:20191127T160000
DTSTAMP:20260424T095348
CREATED:20191113T043950Z
LAST-MODIFIED:20191114T014028Z
UID:1419-1574859600-1574870400@qa.anewlga.com
SUMMARY:Creative Crafts with the Terminal B Fun Crew
DESCRIPTION:Eastern Concourse (Gates 40-59)
URL:https://qa.anewlga.com/event/creative-crafts-with-the-terminal-b-fun-crew-2/
LOCATION:Terminal B
END:VEVENT
END:VCALENDAR