BEGIN:VCALENDAR
VERSION:2.0
PRODID:-//LaGuardia Redevelopment - ECPv5.16.4//NONSGML v1.0//EN
CALSCALE:GREGORIAN
METHOD:PUBLISH
X-WR-CALNAME:LaGuardia Redevelopment
X-ORIGINAL-URL:https://qa.anewlga.com
X-WR-CALDESC:Events for LaGuardia Redevelopment
BEGIN:VTIMEZONE
TZID:UTC
BEGIN:STANDARD
TZOFFSETFROM:+0000
TZOFFSETTO:+0000
TZNAME:UTC
DTSTART:20190101T000000
END:STANDARD
END:VTIMEZONE
BEGIN:VEVENT
DTSTART;TZID=UTC:20191222T120000
DTEND;TZID=UTC:20191222T160000
DTSTAMP:20260424T095731
CREATED:20191216T015819Z
LAST-MODIFIED:20191216T015819Z
UID:1556-1577016000-1577030400@qa.anewlga.com
SUMMARY:Creative Crafts with the Terminal B Fun Crew
DESCRIPTION: Eastern Concourse (Gates 40-59)
URL:https://qa.anewlga.com/event/creative-crafts-with-the-terminal-b-fun-crew-9/
LOCATION:Terminal B
END:VEVENT
END:VCALENDAR