BEGIN:VCALENDAR
VERSION:2.0
PRODID:-//LaGuardia Redevelopment - ECPv5.16.4//NONSGML v1.0//EN
CALSCALE:GREGORIAN
METHOD:PUBLISH
X-WR-CALNAME:LaGuardia Redevelopment
X-ORIGINAL-URL:https://qa.anewlga.com
X-WR-CALDESC:Events for LaGuardia Redevelopment
BEGIN:VTIMEZONE
TZID:America/New_York
BEGIN:DAYLIGHT
TZOFFSETFROM:-0500
TZOFFSETTO:-0400
TZNAME:EDT
DTSTART:20200308T070000
END:DAYLIGHT
BEGIN:STANDARD
TZOFFSETFROM:-0400
TZOFFSETTO:-0500
TZNAME:EST
DTSTART:20201101T060000
END:STANDARD
END:VTIMEZONE
BEGIN:VEVENT
DTSTART;TZID=America/New_York:20200922T110000
DTEND;TZID=America/New_York:20200922T130000
DTSTAMP:20260423T180751
CREATED:20200916T022123Z
LAST-MODIFIED:20200916T022123Z
UID:2752-1600772400-1600779600@qa.anewlga.com
SUMMARY:Day 1 Construction Admin 101-Bid Documents Requirements
DESCRIPTION:To Register for Event Please : RSVP Here
URL:https://qa.anewlga.com/event/day-1-construction-admin-101-bid-documents-requirements/
LOCATION:Webinar
END:VEVENT
END:VCALENDAR