BEGIN:VCALENDAR
VERSION:2.0
PRODID:-//LaGuardia Redevelopment - ECPv5.16.4//NONSGML v1.0//EN
CALSCALE:GREGORIAN
METHOD:PUBLISH
X-WR-CALNAME:LaGuardia Redevelopment
X-ORIGINAL-URL:https://qa.anewlga.com
X-WR-CALDESC:Events for LaGuardia Redevelopment
BEGIN:VTIMEZONE
TZID:UTC
BEGIN:STANDARD
TZOFFSETFROM:+0000
TZOFFSETTO:+0000
TZNAME:UTC
DTSTART:20190101T000000
END:STANDARD
END:VTIMEZONE
BEGIN:VEVENT
DTSTART;TZID=UTC:20190603T083000
DTEND;TZID=UTC:20190603T123000
DTSTAMP:20260424T192307
CREATED:20190603T223839Z
LAST-MODIFIED:20190603T223914Z
UID:1278-1559550600-1559565000@qa.anewlga.com
SUMMARY:Delta Air Lines MWBE Outreach Event LaGuardia Airport New Terminal C Program
DESCRIPTION:Delta Air Lines MWBE Outreach Event\nLaGuardia Airport New Terminal C Program
URL:https://qa.anewlga.com/event/delta-air-lines-mwbe-outreach-event-laguardia-airport-new-terminal-c-program/
LOCATION:LaGuardia Airport Marriott\, 102-05 Ditmars Blvd\, East Elmhurst\, NY\, 11369\, United States
END:VEVENT
END:VCALENDAR