BEGIN:VCALENDAR
VERSION:2.0
PRODID:-//LaGuardia Redevelopment - ECPv5.16.4//NONSGML v1.0//EN
CALSCALE:GREGORIAN
METHOD:PUBLISH
X-WR-CALNAME:LaGuardia Redevelopment
X-ORIGINAL-URL:https://qa.anewlga.com
X-WR-CALDESC:Events for LaGuardia Redevelopment
BEGIN:VTIMEZONE
TZID:UTC
BEGIN:STANDARD
TZOFFSETFROM:+0000
TZOFFSETTO:+0000
TZNAME:UTC
DTSTART:20190101T000000
END:STANDARD
END:VTIMEZONE
BEGIN:VEVENT
DTSTART;TZID=UTC:20190523T080000
DTEND;TZID=UTC:20190523T170000
DTSTAMP:20260424T205346
CREATED:20190506T230339Z
LAST-MODIFIED:20190506T230339Z
UID:1196-1558598400-1558630800@qa.anewlga.com
SUMMARY:Ditmars Blvd Block Association
DESCRIPTION:LGA Redevelopment Update
URL:https://qa.anewlga.com/event/ditmars-blvd-block-association/
LOCATION:LaGuardia Marriott\, 102-05 Ditmars Blvd\, Queens\, NY\, United States
END:VEVENT
END:VCALENDAR