BEGIN:VCALENDAR
VERSION:2.0
PRODID:-//LaGuardia Redevelopment - ECPv5.16.4//NONSGML v1.0//EN
CALSCALE:GREGORIAN
METHOD:PUBLISH
X-WR-CALNAME:LaGuardia Redevelopment
X-ORIGINAL-URL:https://qa.anewlga.com
X-WR-CALDESC:Events for LaGuardia Redevelopment
BEGIN:VTIMEZONE
TZID:UTC
BEGIN:STANDARD
TZOFFSETFROM:+0000
TZOFFSETTO:+0000
TZNAME:UTC
DTSTART:20180101T000000
END:STANDARD
END:VTIMEZONE
BEGIN:VEVENT
DTSTART;TZID=UTC:20181119T120000
DTEND;TZID=UTC:20181119T140000
DTSTAMP:20260425T074229
CREATED:20181115T023331Z
LAST-MODIFIED:20181115T023331Z
UID:876-1542628800-1542636000@qa.anewlga.com
SUMMARY:EECCA Turkey Giveaway
DESCRIPTION:
URL:https://qa.anewlga.com/event/eecca-turkey-giveaway/
END:VEVENT
END:VCALENDAR