BEGIN:VCALENDAR
VERSION:2.0
PRODID:-//LaGuardia Redevelopment - ECPv5.16.4//NONSGML v1.0//EN
CALSCALE:GREGORIAN
METHOD:PUBLISH
X-WR-CALNAME:LaGuardia Redevelopment
X-ORIGINAL-URL:https://qa.anewlga.com
X-WR-CALDESC:Events for LaGuardia Redevelopment
BEGIN:VTIMEZONE
TZID:UTC
BEGIN:STANDARD
TZOFFSETFROM:+0000
TZOFFSETTO:+0000
TZNAME:UTC
DTSTART:20190101T000000
END:STANDARD
END:VTIMEZONE
BEGIN:VEVENT
DTSTART;TZID=UTC:20190727T120000
DTEND;TZID=UTC:20190727T170000
DTSTAMP:20260424T150019
CREATED:20190712T050638Z
LAST-MODIFIED:20190712T050638Z
UID:1349-1564228800-1564246800@qa.anewlga.com
SUMMARY:Elmcor Block Party
DESCRIPTION:Elmcor Block Party
URL:https://qa.anewlga.com/event/elmcor-block-party/
LOCATION:107th Street and Northern Blvd
END:VEVENT
END:VCALENDAR