BEGIN:VCALENDAR
VERSION:2.0
PRODID:-//LaGuardia Redevelopment - ECPv5.16.4//NONSGML v1.0//EN
CALSCALE:GREGORIAN
METHOD:PUBLISH
X-WR-CALNAME:LaGuardia Redevelopment
X-ORIGINAL-URL:https://qa.anewlga.com
X-WR-CALDESC:Events for LaGuardia Redevelopment
BEGIN:VTIMEZONE
TZID:UTC
BEGIN:STANDARD
TZOFFSETFROM:+0000
TZOFFSETTO:+0000
TZNAME:UTC
DTSTART:20180101T000000
END:STANDARD
END:VTIMEZONE
BEGIN:VEVENT
DTSTART;TZID=UTC:20181022T130000
DTEND;TZID=UTC:20181022T173000
DTSTAMP:20260425T091254
CREATED:20181017T024506Z
LAST-MODIFIED:20181017T024506Z
UID:819-1540213200-1540229400@qa.anewlga.com
SUMMARY:Fall Halloween Crafts
DESCRIPTION:
URL:https://qa.anewlga.com/event/fall-halloween-crafts/
LOCATION:Terminal B
END:VEVENT
END:VCALENDAR