BEGIN:VCALENDAR
VERSION:2.0
PRODID:-//LaGuardia Redevelopment - ECPv5.16.4//NONSGML v1.0//EN
CALSCALE:GREGORIAN
METHOD:PUBLISH
X-WR-CALNAME:LaGuardia Redevelopment
X-ORIGINAL-URL:https://qa.anewlga.com
X-WR-CALDESC:Events for LaGuardia Redevelopment
BEGIN:VTIMEZONE
TZID:UTC
BEGIN:STANDARD
TZOFFSETFROM:+0000
TZOFFSETTO:+0000
TZNAME:UTC
DTSTART:20180101T000000
END:STANDARD
END:VTIMEZONE
BEGIN:VEVENT
DTSTART;TZID=UTC:20180912T120000
DTEND;TZID=UTC:20180912T160000
DTSTAMP:20260425T105749
CREATED:20180908T063000Z
LAST-MODIFIED:20180908T063000Z
UID:718-1536753600-1536768000@qa.anewlga.com
SUMMARY:Fashion Themed Button Making
DESCRIPTION:
URL:https://qa.anewlga.com/event/fashion-themed-button-making/
LOCATION:Terminal B
END:VEVENT
END:VCALENDAR