BEGIN:VCALENDAR
VERSION:2.0
PRODID:-//LaGuardia Redevelopment - ECPv5.16.4//NONSGML v1.0//EN
CALSCALE:GREGORIAN
METHOD:PUBLISH
X-WR-CALNAME:LaGuardia Redevelopment
X-ORIGINAL-URL:https://qa.anewlga.com
X-WR-CALDESC:Events for LaGuardia Redevelopment
BEGIN:VTIMEZONE
TZID:America/New_York
BEGIN:DAYLIGHT
TZOFFSETFROM:-0500
TZOFFSETTO:-0400
TZNAME:EDT
DTSTART:20210314T070000
END:DAYLIGHT
BEGIN:STANDARD
TZOFFSETFROM:-0400
TZOFFSETTO:-0500
TZNAME:EST
DTSTART:20211107T060000
END:STANDARD
END:VTIMEZONE
BEGIN:VEVENT
DTSTART;TZID=America/New_York:20210316T143000
DTEND;TZID=America/New_York:20210316T183000
DTSTAMP:20260423T071121
CREATED:20210309T210001Z
LAST-MODIFIED:20210309T210001Z
UID:3387-1615905000-1615919400@qa.anewlga.com
SUMMARY:Fireside Chat
DESCRIPTION:Please Click Here to Register
URL:https://qa.anewlga.com/event/fireside-chat-4/
LOCATION:Webinar
END:VEVENT
END:VCALENDAR