BEGIN:VCALENDAR
VERSION:2.0
PRODID:-//LaGuardia Redevelopment - ECPv5.16.4//NONSGML v1.0//EN
CALSCALE:GREGORIAN
METHOD:PUBLISH
X-WR-CALNAME:LaGuardia Redevelopment
X-ORIGINAL-URL:https://qa.anewlga.com
X-WR-CALDESC:Events for LaGuardia Redevelopment
BEGIN:VTIMEZONE
TZID:UTC
BEGIN:STANDARD
TZOFFSETFROM:+0000
TZOFFSETTO:+0000
TZNAME:UTC
DTSTART:20180101T000000
END:STANDARD
END:VTIMEZONE
BEGIN:VEVENT
DTSTART;TZID=UTC:20181031T133000
DTEND;TZID=UTC:20181031T163000
DTSTAMP:20260425T073925
CREATED:20181017T024854Z
LAST-MODIFIED:20181017T024915Z
UID:826-1540992600-1541003400@qa.anewlga.com
SUMMARY:Friendly Witch visit at Terminal B
DESCRIPTION:
URL:https://qa.anewlga.com/event/friendly-witch-visit/
LOCATION:Terminal B
END:VEVENT
END:VCALENDAR