BEGIN:VCALENDAR
VERSION:2.0
PRODID:-//LaGuardia Redevelopment - ECPv5.16.4//NONSGML v1.0//EN
CALSCALE:GREGORIAN
METHOD:PUBLISH
X-WR-CALNAME:LaGuardia Redevelopment
X-ORIGINAL-URL:https://qa.anewlga.com
X-WR-CALDESC:Events for LaGuardia Redevelopment
BEGIN:VTIMEZONE
TZID:America/New_York
BEGIN:DAYLIGHT
TZOFFSETFROM:-0500
TZOFFSETTO:-0400
TZNAME:EDT
DTSTART:20200308T070000
END:DAYLIGHT
BEGIN:STANDARD
TZOFFSETFROM:-0400
TZOFFSETTO:-0500
TZNAME:EST
DTSTART:20201101T060000
END:STANDARD
END:VTIMEZONE
BEGIN:VEVENT
DTSTART;TZID=America/New_York:20201030T080000
DTEND;TZID=America/New_York:20201030T170000
DTSTAMP:20260423T144609
CREATED:20201001T012036Z
LAST-MODIFIED:20201001T012036Z
UID:2852-1604044800-1604077200@qa.anewlga.com
SUMMARY:Job Information Webinar
DESCRIPTION:Click Here to RSVP
URL:https://qa.anewlga.com/event/job-information-webinar/
LOCATION:Webinar
END:VEVENT
END:VCALENDAR