BEGIN:VCALENDAR
VERSION:2.0
PRODID:-//LaGuardia Redevelopment - ECPv5.16.4//NONSGML v1.0//EN
CALSCALE:GREGORIAN
METHOD:PUBLISH
X-WR-CALNAME:LaGuardia Redevelopment
X-ORIGINAL-URL:https://qa.anewlga.com
X-WR-CALDESC:Events for LaGuardia Redevelopment
BEGIN:VTIMEZONE
TZID:UTC
BEGIN:STANDARD
TZOFFSETFROM:+0000
TZOFFSETTO:+0000
TZNAME:UTC
DTSTART:20190101T000000
END:STANDARD
END:VTIMEZONE
BEGIN:VEVENT
DTSTART;TZID=UTC:20191210T103000
DTEND;TZID=UTC:20191210T133000
DTSTAMP:20260424T094222
CREATED:20191216T021737Z
LAST-MODIFIED:20191216T021737Z
UID:1583-1575973800-1575984600@qa.anewlga.com
SUMMARY:Learn More About Queens Public Library
DESCRIPTION:Terminal B Retail Corridor (Adjacent to InMotion)
URL:https://qa.anewlga.com/event/learn-more-about-queens-public-library/
LOCATION:Terminal B
END:VEVENT
END:VCALENDAR