BEGIN:VCALENDAR
VERSION:2.0
PRODID:-//LaGuardia Redevelopment - ECPv5.16.4//NONSGML v1.0//EN
CALSCALE:GREGORIAN
METHOD:PUBLISH
X-WR-CALNAME:LaGuardia Redevelopment
X-ORIGINAL-URL:https://qa.anewlga.com
X-WR-CALDESC:Events for LaGuardia Redevelopment
BEGIN:VTIMEZONE
TZID:UTC
BEGIN:STANDARD
TZOFFSETFROM:+0000
TZOFFSETTO:+0000
TZNAME:UTC
DTSTART:20200101T000000
END:STANDARD
END:VTIMEZONE
BEGIN:VEVENT
DTSTART;TZID=UTC:20200124T130000
DTEND;TZID=UTC:20200124T160000
DTSTAMP:20260424T062502
CREATED:20200122T231027Z
LAST-MODIFIED:20200122T231027Z
UID:1691-1579870800-1579881600@qa.anewlga.com
SUMMARY:Live Jazz
DESCRIPTION:Terminal B Retail District
URL:https://qa.anewlga.com/event/live-jazz-3/
LOCATION:Terminal B
END:VEVENT
END:VCALENDAR