BEGIN:VCALENDAR
VERSION:2.0
PRODID:-//LaGuardia Redevelopment - ECPv5.16.4//NONSGML v1.0//EN
CALSCALE:GREGORIAN
METHOD:PUBLISH
X-WR-CALNAME:LaGuardia Redevelopment
X-ORIGINAL-URL:https://qa.anewlga.com
X-WR-CALDESC:Events for LaGuardia Redevelopment
BEGIN:VTIMEZONE
TZID:UTC
BEGIN:STANDARD
TZOFFSETFROM:+0000
TZOFFSETTO:+0000
TZNAME:UTC
DTSTART:20190101T000000
END:STANDARD
END:VTIMEZONE
BEGIN:VEVENT
DTSTART;TZID=UTC:20191115T130000
DTEND;TZID=UTC:20191115T160000
DTSTAMP:20260424T095924
CREATED:20191114T021132Z
LAST-MODIFIED:20191114T021132Z
UID:1476-1573822800-1573833600@qa.anewlga.com
SUMMARY:Live Jazz in Center Food Court
DESCRIPTION:Terminal B Center Food Court
URL:https://qa.anewlga.com/event/live-jazz-in-center-food-court-3/
LOCATION:Terminal B
END:VEVENT
END:VCALENDAR