BEGIN:VCALENDAR
VERSION:2.0
PRODID:-//LaGuardia Redevelopment - ECPv5.16.4//NONSGML v1.0//EN
CALSCALE:GREGORIAN
METHOD:PUBLISH
X-WR-CALNAME:LaGuardia Redevelopment
X-ORIGINAL-URL:https://qa.anewlga.com
X-WR-CALDESC:Events for LaGuardia Redevelopment
BEGIN:VTIMEZONE
TZID:UTC
BEGIN:STANDARD
TZOFFSETFROM:+0000
TZOFFSETTO:+0000
TZNAME:UTC
DTSTART:20180101T000000
END:STANDARD
END:VTIMEZONE
BEGIN:VEVENT
DTSTART;TZID=UTC:20181021T100000
DTEND;TZID=UTC:20181021T100000
DTSTAMP:20260425T091620
CREATED:20181017T024403Z
LAST-MODIFIED:20181017T024403Z
UID:817-1540116000-1540116000@qa.anewlga.com
SUMMARY:Making Strides Breast Cancer Walk
DESCRIPTION:
URL:https://qa.anewlga.com/event/making-strides-breast-cancer-walk/
LOCATION:Flushing Meadows Corona Park
END:VEVENT
END:VCALENDAR