BEGIN:VCALENDAR
VERSION:2.0
PRODID:-//LaGuardia Redevelopment - ECPv5.16.4//NONSGML v1.0//EN
CALSCALE:GREGORIAN
METHOD:PUBLISH
X-WR-CALNAME:LaGuardia Redevelopment
X-ORIGINAL-URL:https://qa.anewlga.com
X-WR-CALDESC:Events for LaGuardia Redevelopment
BEGIN:VTIMEZONE
TZID:UTC
BEGIN:STANDARD
TZOFFSETFROM:+0000
TZOFFSETTO:+0000
TZNAME:UTC
DTSTART:20190101T000000
END:STANDARD
END:VTIMEZONE
BEGIN:VEVENT
DTSTART;TZID=UTC:20191126T120000
DTEND;TZID=UTC:20191126T140000
DTSTAMP:20260424T080747
CREATED:20191114T005249Z
LAST-MODIFIED:20191114T005338Z
UID:1425-1574769600-1574776800@qa.anewlga.com
SUMMARY:Meet the Terminal B Turkey!
DESCRIPTION:Eastern Concourse\n(Gates 40-59)
URL:https://qa.anewlga.com/event/meet-the-terminal-b-turkey/
LOCATION:Terminal B
END:VEVENT
END:VCALENDAR