BEGIN:VCALENDAR
VERSION:2.0
PRODID:-//LaGuardia Redevelopment - ECPv5.16.4//NONSGML v1.0//EN
CALSCALE:GREGORIAN
METHOD:PUBLISH
X-WR-CALNAME:LaGuardia Redevelopment
X-ORIGINAL-URL:https://qa.anewlga.com
X-WR-CALDESC:Events for LaGuardia Redevelopment
BEGIN:VTIMEZONE
TZID:UTC
BEGIN:STANDARD
TZOFFSETFROM:+0000
TZOFFSETTO:+0000
TZNAME:UTC
DTSTART:20190101T000000
END:STANDARD
END:VTIMEZONE
BEGIN:VEVENT
DTSTART;TZID=UTC:20191220T130000
DTEND;TZID=UTC:20191220T150000
DTSTAMP:20260424T094152
CREATED:20191216T024622Z
LAST-MODIFIED:20191216T024622Z
UID:1616-1576846800-1576854000@qa.anewlga.com
SUMMARY:Mobile Office
DESCRIPTION:Langston Hughes
URL:https://qa.anewlga.com/event/mobile-office-14/
LOCATION:Langston Hughes Library\, 100-01 Northern Blvd\, Flushing\, NY\, 11368\, United States
END:VEVENT
END:VCALENDAR