BEGIN:VCALENDAR
VERSION:2.0
PRODID:-//LaGuardia Redevelopment - ECPv5.16.4//NONSGML v1.0//EN
CALSCALE:GREGORIAN
METHOD:PUBLISH
X-WR-CALNAME:LaGuardia Redevelopment
X-ORIGINAL-URL:https://qa.anewlga.com
X-WR-CALDESC:Events for LaGuardia Redevelopment
BEGIN:VTIMEZONE
TZID:America/New_York
BEGIN:DAYLIGHT
TZOFFSETFROM:-0500
TZOFFSETTO:-0400
TZNAME:EDT
DTSTART:20200308T070000
END:DAYLIGHT
BEGIN:STANDARD
TZOFFSETFROM:-0400
TZOFFSETTO:-0500
TZNAME:EST
DTSTART:20201101T060000
END:STANDARD
END:VTIMEZONE
BEGIN:VEVENT
DTSTART;TZID=America/New_York:20201117T110000
DTEND;TZID=America/New_York:20201117T123000
DTSTAMP:20260423T144055
CREATED:20201105T004102Z
LAST-MODIFIED:20201105T005122Z
UID:3085-1605610800-1605616200@qa.anewlga.com
SUMMARY:MWBE Certification Webinar
DESCRIPTION:Click Here to Register
URL:https://qa.anewlga.com/event/mwbe-certification-webinar/
LOCATION:Webinar
END:VEVENT
END:VCALENDAR