BEGIN:VCALENDAR
VERSION:2.0
PRODID:-//LaGuardia Redevelopment - ECPv5.16.4//NONSGML v1.0//EN
CALSCALE:GREGORIAN
METHOD:PUBLISH
X-WR-CALNAME:LaGuardia Redevelopment
X-ORIGINAL-URL:https://qa.anewlga.com
X-WR-CALDESC:Events for LaGuardia Redevelopment
BEGIN:VTIMEZONE
TZID:UTC
BEGIN:STANDARD
TZOFFSETFROM:+0000
TZOFFSETTO:+0000
TZNAME:UTC
DTSTART:20190101T000000
END:STANDARD
END:VTIMEZONE
BEGIN:VEVENT
DTSTART;TZID=UTC:20190624T180000
DTEND;TZID=UTC:20190624T193000
DTSTAMP:20260424T191209
CREATED:20190603T225331Z
LAST-MODIFIED:20190603T225359Z
UID:1287-1561399200-1561404600@qa.anewlga.com
SUMMARY:MWBE Certification Workshop
DESCRIPTION:
URL:https://qa.anewlga.com/event/mwbe-certification-workshop/
LOCATION:Langston Hughes Community Library and Cultural Center\, 100-01 Northern Blvd.\, Corona\, NY\, 11368\, United States
END:VEVENT
END:VCALENDAR