BEGIN:VCALENDAR
VERSION:2.0
PRODID:-//LaGuardia Redevelopment - ECPv5.16.4//NONSGML v1.0//EN
CALSCALE:GREGORIAN
METHOD:PUBLISH
X-WR-CALNAME:LaGuardia Redevelopment
X-ORIGINAL-URL:https://qa.anewlga.com
X-WR-CALDESC:Events for LaGuardia Redevelopment
BEGIN:VTIMEZONE
TZID:UTC
BEGIN:STANDARD
TZOFFSETFROM:+0000
TZOFFSETTO:+0000
TZNAME:UTC
DTSTART:20190101T000000
END:STANDARD
END:VTIMEZONE
BEGIN:VEVENT
DTSTART;TZID=UTC:20190729T000000
DTEND;TZID=UTC:20190729T000000
DTSTAMP:20260424T113953
CREATED:20190712T051339Z
LAST-MODIFIED:20190712T051339Z
UID:1354-1564358400-1564358400@qa.anewlga.com
SUMMARY:MWBE Workshop East Elmhurst Library
DESCRIPTION:MWBE Workshop East Elmhurst Library
URL:https://qa.anewlga.com/event/mwbe-workshop-east-elmhurst-library/
LOCATION:95-06 Astoria Blvd\, East Elmhurst\, NY 11369\, 95-06 Astoria Blvd\, East Elmhurst\, NY\, 11369
END:VEVENT
END:VCALENDAR