BEGIN:VCALENDAR
VERSION:2.0
PRODID:-//LaGuardia Redevelopment - ECPv5.16.4//NONSGML v1.0//EN
CALSCALE:GREGORIAN
METHOD:PUBLISH
X-WR-CALNAME:LaGuardia Redevelopment
X-ORIGINAL-URL:https://qa.anewlga.com
X-WR-CALDESC:Events for LaGuardia Redevelopment
BEGIN:VTIMEZONE
TZID:UTC
BEGIN:STANDARD
TZOFFSETFROM:+0000
TZOFFSETTO:+0000
TZNAME:UTC
DTSTART:20190101T000000
END:STANDARD
END:VTIMEZONE
BEGIN:VEVENT
DTSTART;TZID=UTC:20191216T173000
DTEND;TZID=UTC:20191216T193000
DTSTAMP:20260424T080139
CREATED:20191216T023332Z
LAST-MODIFIED:20191216T023332Z
UID:1605-1576517400-1576524600@qa.anewlga.com
SUMMARY:MWBE Workshop
DESCRIPTION:Astoria Library
URL:https://qa.anewlga.com/event/mwbe-workshop/
LOCATION:Astoria Library\, 14-01 Astoria Blvd\, Astoria\, NY\, 11102\, United States
END:VEVENT
END:VCALENDAR