BEGIN:VCALENDAR
VERSION:2.0
PRODID:-//LaGuardia Redevelopment - ECPv5.16.4//NONSGML v1.0//EN
CALSCALE:GREGORIAN
METHOD:PUBLISH
X-WR-CALNAME:LaGuardia Redevelopment
X-ORIGINAL-URL:https://qa.anewlga.com
X-WR-CALDESC:Events for LaGuardia Redevelopment
BEGIN:VTIMEZONE
TZID:America/New_York
BEGIN:DAYLIGHT
TZOFFSETFROM:-0500
TZOFFSETTO:-0400
TZNAME:EDT
DTSTART:20200308T070000
END:DAYLIGHT
BEGIN:STANDARD
TZOFFSETFROM:-0400
TZOFFSETTO:-0500
TZNAME:EST
DTSTART:20201101T060000
END:STANDARD
END:VTIMEZONE
BEGIN:VEVENT
DTSTART;TZID=America/New_York:20200623T120000
DTEND;TZID=America/New_York:20200623T130000
DTSTAMP:20260423T225321
CREATED:20200615T213814Z
LAST-MODIFIED:20200615T213859Z
UID:2157-1592913600-1592917200@qa.anewlga.com
SUMMARY:Professional Attire: Making a Great First Impression
DESCRIPTION:RSVP: https://professionalimagewebinar.eventbrite.com/
URL:https://qa.anewlga.com/event/professional-attire-making-a-great-first-impression/
LOCATION:Webinar
END:VEVENT
END:VCALENDAR