BEGIN:VCALENDAR
VERSION:2.0
PRODID:-//LaGuardia Redevelopment - ECPv5.16.4//NONSGML v1.0//EN
CALSCALE:GREGORIAN
METHOD:PUBLISH
X-WR-CALNAME:LaGuardia Redevelopment
X-ORIGINAL-URL:https://qa.anewlga.com
X-WR-CALDESC:Events for LaGuardia Redevelopment
BEGIN:VTIMEZONE
TZID:UTC
BEGIN:STANDARD
TZOFFSETFROM:+0000
TZOFFSETTO:+0000
TZNAME:UTC
DTSTART:20180101T000000
END:STANDARD
END:VTIMEZONE
BEGIN:VEVENT
DTSTART;TZID=UTC:20181114T140000
DTEND;TZID=UTC:20181114T160000
DTSTAMP:20260425T080103
CREATED:20181115T022223Z
LAST-MODIFIED:20181115T022223Z
UID:862-1542204000-1542211200@qa.anewlga.com
SUMMARY:Senate Candidate Jessica Ramos
DESCRIPTION:
URL:https://qa.anewlga.com/event/senate-candidate-jessica-ramos/
LOCATION:H7
END:VEVENT
END:VCALENDAR