BEGIN:VCALENDAR
VERSION:2.0
PRODID:-//LaGuardia Redevelopment - ECPv5.16.4//NONSGML v1.0//EN
CALSCALE:GREGORIAN
METHOD:PUBLISH
X-WR-CALNAME:LaGuardia Redevelopment
X-ORIGINAL-URL:https://qa.anewlga.com
X-WR-CALDESC:Events for LaGuardia Redevelopment
BEGIN:VTIMEZONE
TZID:America/New_York
BEGIN:DAYLIGHT
TZOFFSETFROM:-0500
TZOFFSETTO:-0400
TZNAME:EDT
DTSTART:20200308T070000
END:DAYLIGHT
BEGIN:STANDARD
TZOFFSETFROM:-0400
TZOFFSETTO:-0500
TZNAME:EST
DTSTART:20201101T060000
END:STANDARD
END:VTIMEZONE
BEGIN:VEVENT
DTSTART;TZID=America/New_York:20200922T100000
DTEND;TZID=America/New_York:20200922T111500
DTSTAMP:20260423T181756
CREATED:20200901T024933Z
LAST-MODIFIED:20200901T041222Z
UID:2583-1600768800-1600773300@qa.anewlga.com
SUMMARY:CAO Online Orientation
DESCRIPTION:Click Here: To RSVP \n  \n \n 
URL:https://qa.anewlga.com/event/sept-22-cao-online-orientation/
LOCATION:Webinar
END:VEVENT
END:VCALENDAR