BEGIN:VCALENDAR
VERSION:2.0
PRODID:-//LaGuardia Redevelopment - ECPv5.16.4//NONSGML v1.0//EN
CALSCALE:GREGORIAN
METHOD:PUBLISH
X-WR-CALNAME:LaGuardia Redevelopment
X-ORIGINAL-URL:https://qa.anewlga.com
X-WR-CALDESC:Events for LaGuardia Redevelopment
BEGIN:VTIMEZONE
TZID:America/New_York
BEGIN:DAYLIGHT
TZOFFSETFROM:-0500
TZOFFSETTO:-0400
TZNAME:EDT
DTSTART:20200308T070000
END:DAYLIGHT
BEGIN:STANDARD
TZOFFSETFROM:-0400
TZOFFSETTO:-0500
TZNAME:EST
DTSTART:20201101T060000
END:STANDARD
END:VTIMEZONE
BEGIN:VEVENT
DTSTART;TZID=America/New_York:20200908T120000
DTEND;TZID=America/New_York:20200908T130000
DTSTAMP:20260423T195916
CREATED:20200901T024610Z
LAST-MODIFIED:20200901T041705Z
UID:2571-1599566400-1599570000@qa.anewlga.com
SUMMARY:Elmcor Resume Building English
DESCRIPTION:Click Here: To RSVP \n \n 
URL:https://qa.anewlga.com/event/sept-8-elmcor-resume-building-english/
LOCATION:Webinar
END:VEVENT
END:VCALENDAR