BEGIN:VCALENDAR
VERSION:2.0
PRODID:-//LaGuardia Redevelopment - ECPv5.16.4//NONSGML v1.0//EN
CALSCALE:GREGORIAN
METHOD:PUBLISH
X-WR-CALNAME:LaGuardia Redevelopment
X-ORIGINAL-URL:https://qa.anewlga.com
X-WR-CALDESC:Events for LaGuardia Redevelopment
BEGIN:VTIMEZONE
TZID:UTC
BEGIN:STANDARD
TZOFFSETFROM:+0000
TZOFFSETTO:+0000
TZNAME:UTC
DTSTART:20190101T000000
END:STANDARD
END:VTIMEZONE
BEGIN:VEVENT
DTSTART;TZID=UTC:20190727T110000
DTEND;TZID=UTC:20190727T180000
DTSTAMP:20260424T163807
CREATED:20190712T050456Z
LAST-MODIFIED:20190712T050456Z
UID:1347-1564225200-1564250400@qa.anewlga.com
SUMMARY:The Episcopal church of Grace & Resurrection International Festival Street Fair
DESCRIPTION:The Episcopal church of Grace & Resurrection International Festival Street Fair
URL:https://qa.anewlga.com/event/the-episcopal-church-of-grace-resurrection-international-festival-street-fair/
END:VEVENT
END:VCALENDAR