BEGIN:VCALENDAR
VERSION:2.0
PRODID:-//LaGuardia Redevelopment - ECPv5.16.4//NONSGML v1.0//EN
CALSCALE:GREGORIAN
METHOD:PUBLISH
X-WR-CALNAME:LaGuardia Redevelopment
X-ORIGINAL-URL:https://qa.anewlga.com
X-WR-CALDESC:Events for LaGuardia Redevelopment
BEGIN:VTIMEZONE
TZID:UTC
BEGIN:STANDARD
TZOFFSETFROM:+0000
TZOFFSETTO:+0000
TZNAME:UTC
DTSTART:20180101T000000
END:STANDARD
END:VTIMEZONE
BEGIN:VEVENT
DTSTART;TZID=UTC:20180908T100000
DTEND;TZID=UTC:20180908T140000
DTSTAMP:20260425T105917
CREATED:20180907T185009Z
LAST-MODIFIED:20180907T185033Z
UID:710-1536400800-1536415200@qa.anewlga.com
SUMMARY:Trade Fair
DESCRIPTION:
URL:https://qa.anewlga.com/event/trade-fair/
LOCATION:Trade Fair\, 99-10 Astoria Blvd.\, Queens\, NY\, United States
END:VEVENT
END:VCALENDAR