BEGIN:VCALENDAR
VERSION:2.0
PRODID:-//LaGuardia Redevelopment - ECPv5.16.4//NONSGML v1.0//EN
CALSCALE:GREGORIAN
METHOD:PUBLISH
X-WR-CALNAME:LaGuardia Redevelopment
X-ORIGINAL-URL:https://qa.anewlga.com
X-WR-CALDESC:Events for LaGuardia Redevelopment
BEGIN:VTIMEZONE
TZID:America/New_York
BEGIN:DAYLIGHT
TZOFFSETFROM:-0500
TZOFFSETTO:-0400
TZNAME:EDT
DTSTART:20200308T070000
END:DAYLIGHT
BEGIN:STANDARD
TZOFFSETFROM:-0400
TZOFFSETTO:-0500
TZNAME:EST
DTSTART:20201101T060000
END:STANDARD
END:VTIMEZONE
BEGIN:VEVENT
DTSTART;TZID=America/New_York:20201208T090000
DTEND;TZID=America/New_York:20201208T110000
DTSTAMP:20260423T123646
CREATED:20201202T235452Z
LAST-MODIFIED:20201202T235452Z
UID:3183-1607418000-1607425200@qa.anewlga.com
SUMMARY:Tune Up Tuesdays
DESCRIPTION:Please Register Here: By appointment only
URL:https://qa.anewlga.com/event/tune-up-tuesdays-7/
LOCATION:Webinar
END:VEVENT
END:VCALENDAR