BEGIN:VCALENDAR
VERSION:2.0
PRODID:-//LaGuardia Redevelopment - ECPv5.16.4//NONSGML v1.0//EN
CALSCALE:GREGORIAN
METHOD:PUBLISH
X-WR-CALNAME:LaGuardia Redevelopment
X-ORIGINAL-URL:https://qa.anewlga.com
X-WR-CALDESC:Events for LaGuardia Redevelopment
BEGIN:VTIMEZONE
TZID:UTC
BEGIN:STANDARD
TZOFFSETFROM:+0000
TZOFFSETTO:+0000
TZNAME:UTC
DTSTART:20190101T000000
END:STANDARD
END:VTIMEZONE
BEGIN:VEVENT
DTSTART;TZID=UTC:20190726T130000
DTEND;TZID=UTC:20190726T160000
DTSTAMP:20260424T173318
CREATED:20190712T050208Z
LAST-MODIFIED:20190712T050208Z
UID:1345-1564146000-1564156800@qa.anewlga.com
SUMMARY:Tunes at the Terminal - Live Jazz
DESCRIPTION:Tunes at the Terminal – Live Jazz
URL:https://qa.anewlga.com/event/tunes-at-the-terminal-live-jazz-3/
LOCATION:Terminal B
END:VEVENT
END:VCALENDAR