BEGIN:VCALENDAR
VERSION:2.0
PRODID:-//LaGuardia Redevelopment - ECPv5.16.4//NONSGML v1.0//EN
CALSCALE:GREGORIAN
METHOD:PUBLISH
X-WR-CALNAME:LaGuardia Redevelopment
X-ORIGINAL-URL:https://qa.anewlga.com
X-WR-CALDESC:Events for LaGuardia Redevelopment
BEGIN:VTIMEZONE
TZID:UTC
BEGIN:STANDARD
TZOFFSETFROM:+0000
TZOFFSETTO:+0000
TZNAME:UTC
DTSTART:20180101T000000
END:STANDARD
END:VTIMEZONE
BEGIN:VEVENT
DTSTART;TZID=UTC:20181217T120000
DTEND;TZID=UTC:20181217T160000
DTSTAMP:20260425T074535
CREATED:20181115T024447Z
LAST-MODIFIED:20181115T024447Z
UID:905-1545048000-1545062400@qa.anewlga.com
SUMMARY:Van Outreach
DESCRIPTION:
URL:https://qa.anewlga.com/event/van-outreach-7/
LOCATION:Langston Hughes Library
END:VEVENT
END:VCALENDAR