BEGIN:VCALENDAR
VERSION:2.0
PRODID:-//LaGuardia Redevelopment - ECPv5.16.4//NONSGML v1.0//EN
CALSCALE:GREGORIAN
METHOD:PUBLISH
X-WR-CALNAME:LaGuardia Redevelopment
X-ORIGINAL-URL:https://qa.anewlga.com
X-WR-CALDESC:Events for LaGuardia Redevelopment
BEGIN:VTIMEZONE
TZID:UTC
BEGIN:STANDARD
TZOFFSETFROM:+0000
TZOFFSETTO:+0000
TZNAME:UTC
DTSTART:20190101T000000
END:STANDARD
END:VTIMEZONE
BEGIN:VEVENT
DTSTART;TZID=UTC:20191220T130000
DTEND;TZID=UTC:20191220T170000
DTSTAMP:20260424T094249
CREATED:20191216T024012Z
LAST-MODIFIED:20191216T024012Z
UID:1612-1576846800-1576861200@qa.anewlga.com
SUMMARY:Visit with Santa!
DESCRIPTION:Terminal B
URL:https://qa.anewlga.com/event/visit-with-santa-2/
LOCATION:Terminal B
END:VEVENT
END:VCALENDAR