BEGIN:VCALENDAR
VERSION:2.0
PRODID:-//LaGuardia Redevelopment - ECPv5.16.4//NONSGML v1.0//EN
CALSCALE:GREGORIAN
METHOD:PUBLISH
X-WR-CALNAME:LaGuardia Redevelopment
X-ORIGINAL-URL:https://qa.anewlga.com
X-WR-CALDESC:Events for LaGuardia Redevelopment
BEGIN:VTIMEZONE
TZID:UTC
BEGIN:STANDARD
TZOFFSETFROM:+0000
TZOFFSETTO:+0000
TZNAME:UTC
DTSTART:20180101T000000
END:STANDARD
END:VTIMEZONE
BEGIN:VEVENT
DTSTART;TZID=UTC:20180914T160000
DTEND;TZID=UTC:20180914T200000
DTSTAMP:20260425T110149
CREATED:20180910T073541Z
LAST-MODIFIED:20180910T073541Z
UID:727-1536940800-1536955200@qa.anewlga.com
SUMMARY:Walgreens
DESCRIPTION:
URL:https://qa.anewlga.com/event/walgreens-2/
LOCATION:Walgreens\, 93-12 Astoria Blvd\, Queens\, NY\, United States
ATTACH;FMTTYPE=image/jpeg:/wp-content/uploads/2018/09/LGA-Redevelopment-Van.jpg
END:VEVENT
END:VCALENDAR